BEGIN:VCALENDAR
VERSION:2.0
PRODID:-//eventon.com NONSGML v1.0//EN
BEGIN:VEVENT
UID:69e65fc908878
DTSTAMP:20260420T141801
DTSTART:20230211T120000Z
DTEND:20230714T203000Z
LOCATION:
SUMMARY:TOG CHÖD - ESPADA DA SABEDORIA
DESCRIPTION: &nbsp; SEGUNDA FORMAÇÃO DE PROFESSORES NO BRASIL  TOG CHÖD - Espada da Sabedoria  Esteja entre os primeiros professores no Brasil e América Latina  &nbsp; O TOG CHÖD O TogChöd - Espada da Sabedoria é um método criado pelo mestre tibetano Tulku Lobsang Rinpoche\,  que tem suas bases nos ensinamentos secretos[..]
URL:https://janaina-araujo.com/eventos/formacao-de-professores/var/event_access
END:VEVENT
END:VCALENDAR