BEGIN:VCALENDAR
VERSION:2.0
PRODID:-//eventon.com NONSGML v1.0//EN
BEGIN:VEVENT
UID:69e4cf099169f
DTSTAMP:20260419T094809
DTSTART:20260722T030000Z
DTEND:20260723T025900Z
LOCATION:
SUMMARY:INTRODUÇÃO À MEDICINA TIBETANA
DESCRIPTION: A ciência da Medicina Tibetana é uma ciência profunda capaz de transformar a nossa forma de reconhecer e perceber o corpo e a mente\,  assim como nossa saúde física e mental. Esse poderoso sistema de conhecimento nos ajuda a desenvolver a capacidade de sermos responsáveis pela nossa saúde mental e[..]
URL:https://janaina-araujo.com/eventos/introducao-a-medicina-tibetana-2/var/ri-2.l-L1
END:VEVENT
END:VCALENDAR